BEGIN:VCALENDAR
VERSION:2.0
PRODID:-//hacksw/handcal//NONSGML v1.0//EN
CALSCALE:GREGORIAN
BEGIN:VEVENT
LOCATION:
DESCRIPTION:
DTSTART:20260424T000000Z
DTEND:20260424T000000Z
SUMMARY:Even Day 
URL;VALUE=URI:https://south.maine207.org/event/even-day-428/
DTSTAMP:20260422T163413Z
UID:69e8f885d1ca6
END:VEVENT
END:VCALENDAR