BEGIN:VCALENDAR
VERSION:2.0
PRODID:-//hacksw/handcal//NONSGML v1.0//EN
CALSCALE:GREGORIAN
BEGIN:VEVENT
LOCATION:
DESCRIPTION:
DTSTART:20260424T003000Z
DTEND:20260424T033000Z
SUMMARY:Musical Performance
URL;VALUE=URI:https://south.maine207.org/event/musical-performance-23/
DTSTAMP:20260421T134056Z
UID:69e77e68895d3
END:VEVENT
END:VCALENDAR