BEGIN:VCALENDAR
VERSION:2.0
PRODID:-//hacksw/handcal//NONSGML v1.0//EN
CALSCALE:GREGORIAN
BEGIN:VEVENT
LOCATION:
DESCRIPTION:
DTSTART:20260425T003000Z
DTEND:20260425T033000Z
SUMMARY:Musical Performance
URL;VALUE=URI:https://south.maine207.org/event/musical-performance-24/
DTSTAMP:20260423T061853Z
UID:69e9b9cdd885a
END:VEVENT
END:VCALENDAR