BEGIN:VCALENDAR
VERSION:2.0
PRODID:-//hacksw/handcal//NONSGML v1.0//EN
CALSCALE:GREGORIAN
BEGIN:VEVENT
LOCATION:
DESCRIPTION:
DTSTART:20260426T003000Z
DTEND:20260426T033000Z
SUMMARY:Musical Performance
URL;VALUE=URI:https://south.maine207.org/event/musical-performance-25/
DTSTAMP:20260424T064134Z
UID:69eb109e5ca3e
END:VEVENT
END:VCALENDAR