BEGIN:VCALENDAR
VERSION:2.0
PRODID:-//hacksw/handcal//NONSGML v1.0//EN
CALSCALE:GREGORIAN
BEGIN:VEVENT
LOCATION:
DESCRIPTION:
DTSTART:20260424T000000Z
DTEND:20260424T000000Z
SUMMARY:Spring Assembly- Ext. Adv Schedule
URL;VALUE=URI:https://south.maine207.org/event/spring-assembly-6/
DTSTAMP:20260421T134648Z
UID:69e77fc8d3216
END:VEVENT
END:VCALENDAR