BEGIN:VCALENDAR
VERSION:2.0
PRODID:-//hacksw/handcal//NONSGML v1.0//EN
CALSCALE:GREGORIAN
BEGIN:VEVENT
LOCATION:
DESCRIPTION:
DTSTART:20260424T000000Z
DTEND:20260424T000000Z
SUMMARY:Underclass Uproar
URL;VALUE=URI:https://south.maine207.org/event/underclass-uproar/
DTSTAMP:20260422T163838Z
UID:69e8f98ee59fc
END:VEVENT
END:VCALENDAR